BEGIN:VCALENDAR
VERSION:2.0
PRODID:-//Populus Hotel - ECPv6.15.20//NONSGML v1.0//EN
CALSCALE:GREGORIAN
METHOD:PUBLISH
X-ORIGINAL-URL:https://populusdenver.com
X-WR-CALDESC:Events for Populus Hotel
REFRESH-INTERVAL;VALUE=DURATION:PT1H
X-Robots-Tag:noindex
X-PUBLISHED-TTL:PT1H
BEGIN:VTIMEZONE
TZID:America/Chicago
BEGIN:DAYLIGHT
TZOFFSETFROM:-0600
TZOFFSETTO:-0500
TZNAME:CDT
DTSTART:20240310T080000
END:DAYLIGHT
BEGIN:STANDARD
TZOFFSETFROM:-0500
TZOFFSETTO:-0600
TZNAME:CST
DTSTART:20241103T070000
END:STANDARD
BEGIN:DAYLIGHT
TZOFFSETFROM:-0600
TZOFFSETTO:-0500
TZNAME:CDT
DTSTART:20250309T080000
END:DAYLIGHT
BEGIN:STANDARD
TZOFFSETFROM:-0500
TZOFFSETTO:-0600
TZNAME:CST
DTSTART:20251102T070000
END:STANDARD
BEGIN:DAYLIGHT
TZOFFSETFROM:-0600
TZOFFSETTO:-0500
TZNAME:CDT
DTSTART:20260308T080000
END:DAYLIGHT
BEGIN:STANDARD
TZOFFSETFROM:-0500
TZOFFSETTO:-0600
TZNAME:CST
DTSTART:20261101T070000
END:STANDARD
BEGIN:DAYLIGHT
TZOFFSETFROM:-0600
TZOFFSETTO:-0500
TZNAME:CDT
DTSTART:20270314T080000
END:DAYLIGHT
BEGIN:STANDARD
TZOFFSETFROM:-0500
TZOFFSETTO:-0600
TZNAME:CST
DTSTART:20271107T070000
END:STANDARD
END:VTIMEZONE
BEGIN:VEVENT
DTSTART;TZID=America/Chicago:20260214T070000
DTEND;TZID=America/Chicago:20260214T140000
DTSTAMP:20260424T121534
CREATED:20260206T185718Z
LAST-MODIFIED:20260206T191143Z
UID:10000074-1771052400-1771077600@populusdenver.com
SUMMARY:Galentine's Day Brunch at Pasque
DESCRIPTION:Grab your gals and join us for Galentine’s Day brunch on February 14 & 15 at Pasque. Sip\, snack\, and celebrate with our red velvet special pancakes\, plus a permanent jewelry pop-up with PinkPearl Denver\, because friendship deserves something sweet and sparkly. \nBook Your Galentine’s Day Brunch
URL:https://populusdenver.com/event/galentines-day-brunch-at-pasque/2026-02-14/
ATTACH;FMTTYPE=image/jpeg:https://populusdenver.com/app/uploads/2026/02/Populus-January-2026-15-1.jpg
END:VEVENT
BEGIN:VEVENT
DTSTART;TZID=America/Chicago:20260212T180000
DTEND;TZID=America/Chicago:20260212T200000
DTSTAMP:20260424T121534
CREATED:20260114T155351Z
LAST-MODIFIED:20260202T223912Z
UID:10000071-1770919200-1770926400@populusdenver.com
SUMMARY:Zero Proof Lounge Nights
DESCRIPTION:Join us for Zero Proof Lounge Nights\, an elevated evening series where thoughtfully crafted\, spirit-free cocktails take center stage alongside live music curated in partnership with Take Note Entertainment. Sip\, sway\, and settle in for a vibrant night of feel-good flavors\, intimate performances\, and effortless connection. Whether you’re embracing a zero-proof lifestyle or simply looking for a fresh way to unwind\, this is your invitation to gather\, groove\, and enjoy great company\, no buzz required. \nDates: January 30\, February 6\, & February 12 \nTime: 7:00 – 9:00 PM \nExpect zero-proof favorites like: \n\nPhony Negroni – St. Agrestis\nAperol-Style Spritz – spirit-free orange\, bitters & bubbles\nFaux-levardier – orange\, “whiskey\,” amaro vibes\nItalian Soda – citrusy\, sparkling refreshment\nHibiscus Sour – agave\, citrus\, hibiscus & pineapple\n\nCome for one\, stay for a few\, these nights are made to linger. \nRSVP for January 30 \nRSVP for February 6 \nRSVP for February 12
URL:https://populusdenver.com/event/zero-proof-lounge-nights/2026-02-12/
LOCATION:populus denver\, 240 14th Street\, denver\, CO\, United States
ATTACH;FMTTYPE=image/jpeg:https://populusdenver.com/app/uploads/2026/01/Stellar-Jay_Stellar-75.jpg
END:VEVENT
BEGIN:VEVENT
DTSTART;TZID=America/Chicago:20260206T190000
DTEND;TZID=America/Chicago:20260206T210000
DTSTAMP:20260424T121534
CREATED:20260114T155351Z
LAST-MODIFIED:20260202T223912Z
UID:10000072-1770404400-1770411600@populusdenver.com
SUMMARY:Zero Proof Lounge Nights
DESCRIPTION:Join us for Zero Proof Lounge Nights\, an elevated evening series where thoughtfully crafted\, spirit-free cocktails take center stage alongside live music curated in partnership with Take Note Entertainment. Sip\, sway\, and settle in for a vibrant night of feel-good flavors\, intimate performances\, and effortless connection. Whether you’re embracing a zero-proof lifestyle or simply looking for a fresh way to unwind\, this is your invitation to gather\, groove\, and enjoy great company\, no buzz required. \nDates: January 30\, February 6\, & February 12 \nTime: 7:00 – 9:00 PM \nExpect zero-proof favorites like: \n\nPhony Negroni – St. Agrestis\nAperol-Style Spritz – spirit-free orange\, bitters & bubbles\nFaux-levardier – orange\, “whiskey\,” amaro vibes\nItalian Soda – citrusy\, sparkling refreshment\nHibiscus Sour – agave\, citrus\, hibiscus & pineapple\n\nCome for one\, stay for a few\, these nights are made to linger. \nRSVP for January 30 \nRSVP for February 6 \nRSVP for February 12
URL:https://populusdenver.com/event/zero-proof-lounge-nights/2026-02-06/
LOCATION:populus denver\, 240 14th Street\, denver\, CO\, United States
ATTACH;FMTTYPE=image/jpeg:https://populusdenver.com/app/uploads/2026/01/Stellar-Jay_Stellar-75.jpg
END:VEVENT
BEGIN:VEVENT
DTSTART;TZID=America/Chicago:20260130T180000
DTEND;TZID=America/Chicago:20260130T200000
DTSTAMP:20260424T121534
CREATED:20260114T155351Z
LAST-MODIFIED:20260202T223912Z
UID:10000069-1769796000-1769803200@populusdenver.com
SUMMARY:Zero Proof Lounge Nights
DESCRIPTION:Join us for Zero Proof Lounge Nights\, an elevated evening series where thoughtfully crafted\, spirit-free cocktails take center stage alongside live music curated in partnership with Take Note Entertainment. Sip\, sway\, and settle in for a vibrant night of feel-good flavors\, intimate performances\, and effortless connection. Whether you’re embracing a zero-proof lifestyle or simply looking for a fresh way to unwind\, this is your invitation to gather\, groove\, and enjoy great company\, no buzz required. \nDates: January 30\, February 6\, & February 12 \nTime: 7:00 – 9:00 PM \nExpect zero-proof favorites like: \n\nPhony Negroni – St. Agrestis\nAperol-Style Spritz – spirit-free orange\, bitters & bubbles\nFaux-levardier – orange\, “whiskey\,” amaro vibes\nItalian Soda – citrusy\, sparkling refreshment\nHibiscus Sour – agave\, citrus\, hibiscus & pineapple\n\nCome for one\, stay for a few\, these nights are made to linger. \nRSVP for January 30 \nRSVP for February 6 \nRSVP for February 12
URL:https://populusdenver.com/event/zero-proof-lounge-nights/2026-01-30/
LOCATION:populus denver\, 240 14th Street\, denver\, CO\, United States
ATTACH;FMTTYPE=image/jpeg:https://populusdenver.com/app/uploads/2026/01/Stellar-Jay_Stellar-75.jpg
END:VEVENT
BEGIN:VEVENT
DTSTART;VALUE=DATE:20260107
DTEND;VALUE=DATE:20260112
DTSTAMP:20260424T121534
CREATED:20251121T175556Z
LAST-MODIFIED:20251121T175556Z
UID:10000044-1767744000-1768175999@populusdenver.com
SUMMARY:Six: The Musical
DESCRIPTION:From Tudor Queens to Pop Icons\, the SIX wives of Henry VIII take the microphone to remix five hundred years of historical heartbreak into a Euphoric Celebration of 21st century girl power! This new original musical is the global sensation that everyone is losing their head over! \nSIX won 23 awards in the 2021/2022 Broadway season\, including the Tony Award® for Best Original Score (Music and Lyrics) and the Outer Critics Circle Award for Best Musical.
URL:https://populusdenver.com/event/six-the-musical/
LOCATION:Buell Theatre\, 1350 Curtis Street\, Denver\, CO\, 80202\, United States
ATTACH;FMTTYPE=image/jpeg:https://populusdenver.com/app/uploads/2025/11/5636021195_5ac8897d7d_o.jpg
END:VEVENT
BEGIN:VEVENT
DTSTART;TZID=America/Chicago:20251231T190000
DTEND;TZID=America/Chicago:20251231T210000
DTSTAMP:20260424T121534
CREATED:20251124T182832Z
LAST-MODIFIED:20251124T182832Z
UID:10000060-1767207600-1767214800@populusdenver.com
SUMMARY:Colorado Avalanche vs. St. Louis Blues
DESCRIPTION:
URL:https://populusdenver.com/event/colorado-avalanche-vs-st-louis-blues/
LOCATION:Ball Arena\, 1000 Chopper Cir\, Denver\, CO\, 80204\, United States
ATTACH;FMTTYPE=image/jpeg:https://populusdenver.com/app/uploads/2025/11/sport-game-play-skate-action-professional-765132-pxhere.com_.jpg
END:VEVENT
BEGIN:VEVENT
DTSTART;VALUE=DATE:20251231
DTEND;VALUE=DATE:20260101
DTSTAMP:20260424T121534
CREATED:20251212T210956Z
LAST-MODIFIED:20251212T210956Z
UID:10000066-1767139200-1767225599@populusdenver.com
SUMMARY:Pasque NYE
DESCRIPTION:Celebrate the close of 2025 with an evening of elevated indulgence at Pasque\, the signature dining destination within the award-winning Hotel Populus. Immerse yourself in a decadent culinary experience thoughtfully curated by our world-class chefs\, featuring pristine oysters served on ice\, buttery lobster\, jumbo crab legs\, exquisitely carved prime rib\, artisanal pastas\, and an array of chef-crafted specialties—all complemented by masterfully handcrafted cocktails. This is far more than a buffet—it is Denver’s premier new luxury dining affair. Secure your reservation and savor the pinnacle of land-and-sea gastronomy. \nReserve your NYE Dinner
URL:https://populusdenver.com/event/pasque-nye/
ATTACH;FMTTYPE=image/jpeg:https://populusdenver.com/app/uploads/2025/12/AdobeStock_201548577.jpeg
END:VEVENT
BEGIN:VEVENT
DTSTART;VALUE=DATE:20251231
DTEND;VALUE=DATE:20260101
DTSTAMP:20260424T121534
CREATED:20251212T210610Z
LAST-MODIFIED:20251212T210610Z
UID:10000065-1767139200-1767225599@populusdenver.com
SUMMARY:Celebrate New Year's Eve at Stellar Jay!
DESCRIPTION:We will be offering a celebratory 4-course prix fixe menu which includes family-style courses highlighting live fire cooking. Tickets are $169 per person; we are able to accommodate pescatarian and vegetarian diets\, but cannot guarantee other allergen accommodations. \n1st – Lobster\, Yuzu Kosho Buffalo Sauce + Vegetable Crudite\, Tofu Miso Zuke \n2nd – Braised Bison Pastrami + Mushroom Cassoulet\, Black Truffle + Bread Service \n3rd – NY Strip\, Creamed Fennel & Spinach\, Potato Pave \n4th – Flourless Chocolate Cake\, Pomegranate Curd\, Mascarpone\, Hukambi Chocolate \nThis experience is $169 plus tax and a 20% gratuity. An optional wine pairing will be available for an additional price. We hope to see you here to commemorate the past year and cheers to 2026! \nReserve Your NYE Experience
URL:https://populusdenver.com/event/celebrate-new-years-eve-at-stellar-jay/
ATTACH;FMTTYPE=image/jpeg:https://populusdenver.com/app/uploads/2025/12/Stellar-Jay_Stellar-75.jpg
END:VEVENT
BEGIN:VEVENT
DTSTART;TZID=America/Chicago:20251229T190000
DTEND;TZID=America/Chicago:20251229T210000
DTSTAMP:20260424T121534
CREATED:20251124T182212Z
LAST-MODIFIED:20251124T182212Z
UID:10000059-1767034800-1767042000@populusdenver.com
SUMMARY:Colorado Avalanche vs. Los Angeles Kings
DESCRIPTION:
URL:https://populusdenver.com/event/colorado-avalanche-vs-los-angeles-kings/
LOCATION:Ball Arena\, 1000 Chopper Cir\, Denver\, CO\, 80204\, United States
ATTACH;FMTTYPE=image/jpeg:https://populusdenver.com/app/uploads/2025/11/3058481466_ac83f3ba15_o.jpg
END:VEVENT
BEGIN:VEVENT
DTSTART;TZID=America/Chicago:20251225T203000
DTEND;TZID=America/Chicago:20251225T223000
DTSTAMP:20260424T121534
CREATED:20251124T181736Z
LAST-MODIFIED:20251124T181736Z
UID:10000058-1766694600-1766701800@populusdenver.com
SUMMARY:Denver Nuggets vs. Minnesota Timberwolves
DESCRIPTION:
URL:https://populusdenver.com/event/denver-nuggets-vs-minnesota-timberwolves/
LOCATION:Ball Arena\, 1000 Chopper Cir\, Denver\, CO\, 80204\, United States
ATTACH;FMTTYPE=image/jpeg:https://populusdenver.com/app/uploads/2025/11/52552855752_40e169a198_o.jpg
END:VEVENT
BEGIN:VEVENT
DTSTART;TZID=America/Chicago:20251223T190000
DTEND;TZID=America/Chicago:20251223T210000
DTSTAMP:20260424T121534
CREATED:20251124T181415Z
LAST-MODIFIED:20251124T181415Z
UID:10000057-1766516400-1766523600@populusdenver.com
SUMMARY:Colorado Avalanche vs Utah Mammoth
DESCRIPTION:
URL:https://populusdenver.com/event/colorado-avalanche-vs-utah-mammoth/
LOCATION:Ball Arena\, 1000 Chopper Cir\, Denver\, CO\, 80204\, United States
ATTACH;FMTTYPE=image/jpeg:https://populusdenver.com/app/uploads/2025/11/Ball_Arena_exterior_2022-1.jpg
END:VEVENT
BEGIN:VEVENT
DTSTART;TZID=America/Chicago:20251222T190000
DTEND;TZID=America/Chicago:20251222T210000
DTSTAMP:20260424T121534
CREATED:20251124T180723Z
LAST-MODIFIED:20251124T180723Z
UID:10000056-1766430000-1766437200@populusdenver.com
SUMMARY:Denver Nuggets vs. Utah Jazz
DESCRIPTION:
URL:https://populusdenver.com/event/denver-nuggets-vs-utah-jazz/
LOCATION:Ball Arena\, 1000 Chopper Cir\, Denver\, CO\, 80204\, United States
ATTACH;FMTTYPE=image/jpeg:https://populusdenver.com/app/uploads/2025/11/52553316591_bef18dfa19_o.jpg
END:VEVENT
BEGIN:VEVENT
DTSTART;TZID=America/Chicago:20251220T150000
DTEND;TZID=America/Chicago:20251220T170000
DTSTAMP:20260424T121534
CREATED:20251121T211840Z
LAST-MODIFIED:20251121T211840Z
UID:10000053-1766242800-1766250000@populusdenver.com
SUMMARY:Denver Nuggets vs Houston Rockets
DESCRIPTION:
URL:https://populusdenver.com/event/denver-nuggets-vs-houston-rockets/
LOCATION:Ball Arena\, 1000 Chopper Cir\, Denver\, CO\, 80204\, United States
ATTACH;FMTTYPE=image/jpeg:https://populusdenver.com/app/uploads/2025/11/Ball_Arena_exterior_2022.jpg
END:VEVENT
BEGIN:VEVENT
DTSTART;TZID=America/Chicago:20251219T190000
DTEND;TZID=America/Chicago:20251219T220000
DTSTAMP:20260424T121534
CREATED:20251121T204535Z
LAST-MODIFIED:20251121T204535Z
UID:10000052-1766170800-1766181600@populusdenver.com
SUMMARY:Colorado Avalanche vs Winnipeg Jets
DESCRIPTION:
URL:https://populusdenver.com/event/colorado-avalanche-vs-winnipeg-jets/
LOCATION:Ball Arena\, 1000 Chopper Cir\, Denver\, CO\, 80204\, United States
ATTACH;FMTTYPE=image/jpeg:https://populusdenver.com/app/uploads/2025/11/Ball_Arena_Avs.jpg
END:VEVENT
BEGIN:VEVENT
DTSTART;TZID=America/Chicago:20251218T190000
DTEND;TZID=America/Chicago:20251218T220000
DTSTAMP:20260424T121534
CREATED:20251121T203842Z
LAST-MODIFIED:20251121T203842Z
UID:10000051-1766084400-1766095200@populusdenver.com
SUMMARY:Denver Nuggets vs Orlando Magic
DESCRIPTION:
URL:https://populusdenver.com/event/denver-nuggets-vs-orlando-magic/
LOCATION:Ball Arena\, 1000 Chopper Cir\, Denver\, CO\, 80204\, United States
ATTACH;FMTTYPE=image/jpeg:https://populusdenver.com/app/uploads/2025/11/Ball_Arena_exterior_2022.jpg
END:VEVENT
BEGIN:VEVENT
DTSTART;VALUE=DATE:20251216
DTEND;VALUE=DATE:20251229
DTSTAMP:20260424T121534
CREATED:20251121T174555Z
LAST-MODIFIED:20251121T174555Z
UID:10000043-1765843200-1766966399@populusdenver.com
SUMMARY:The Notebook
DESCRIPTION:Based on the best-selling novel that inspired the iconic film\, THE NOTEBOOK tells the story of Allie and Noah\, both from different worlds\, who share a lifetime of love despite the forces that threaten to pull them apart. “Full of butterfly-inducing highs and beautiful songs” (Entertainment Weekly)\, THE NOTEBOOK is a deeply moving portrait of the enduring power of love.
URL:https://populusdenver.com/event/the-notebook/
LOCATION:Buell Theatre\, 1350 Curtis Street\, Denver\, CO\, 80202\, United States
ATTACH;FMTTYPE=image/png:https://populusdenver.com/app/uploads/2025/11/Screenshot-2025-11-21-at-11.45.40-AM.png
END:VEVENT
BEGIN:VEVENT
DTSTART;TZID=America/Chicago:20251213T190000
DTEND;TZID=America/Chicago:20251213T210000
DTSTAMP:20260424T121534
CREATED:20251121T203201Z
LAST-MODIFIED:20251121T203201Z
UID:10000050-1765652400-1765659600@populusdenver.com
SUMMARY:Colorado Avalanche vs. Nashville Predators
DESCRIPTION:
URL:https://populusdenver.com/event/colorado-avalanche-vs-nashville-predators/
LOCATION:Ball Arena\, 1000 Chopper Cir\, Denver\, CO\, 80204\, United States
ATTACH;FMTTYPE=image/jpeg:https://populusdenver.com/app/uploads/2025/11/Ball_Arena_Avs.jpg
END:VEVENT
BEGIN:VEVENT
DTSTART;TZID=America/Chicago:20251212T180000
DTEND;TZID=America/Chicago:20251221T200000
DTSTAMP:20260424T121534
CREATED:20251208T231950Z
LAST-MODIFIED:20251208T231950Z
UID:10000064-1765562400-1766347200@populusdenver.com
SUMMARY:HiFi Holiday
DESCRIPTION:HiFi Holiday\, a cocktail experience and listening lounge spanning two weekends and created in collaboration with ESP HiFi\, High Road Spirits\, and Fireside at Five. Part celebratory gathering\, part analog sound experience\, HiFi Holiday invites guests to slow down\, settle in\, and absorb the warmth of connection at the nature-inspired hotel and community gathering place. \nOpen Friday through Sunday on December 12–14 and December 19–21 from 5 p.m. – 10 p.m.\, HiFi Holiday recasts Populus Denver’s second floor as a glowing\, sensory refuge\, serving a specialty menu of Japanese-inspired drinks and bites paired with curated vinyl soundtracks by local DJs. Anchored by ESP’s Remote Viewing system\, the HiFi installation is intentionally tuned for the space\, sending rich\, room-filling vinyl soundscapes through pine-scented air. Lamps flicker against concrete walls. Live greenery softens the edges of ESP’s signature system. Soft amber lighting washes over a room designed for deep listening and cozy conversation. The HiFi Holiday pop-up is open to the public with walk-in–only service and is an exciting addition to Populus Denver’s ongoing programming\, all of which is designed to authentically connect the community to each other and their surroundings.
URL:https://populusdenver.com/event/hifi-holiday/
ATTACH;FMTTYPE=image/jpeg:https://populusdenver.com/app/uploads/2025/12/POP-Populus-Holiday-Soundscapes-Campaign-1.jpg
END:VEVENT
BEGIN:VEVENT
DTSTART;TZID=America/Chicago:20251211T193000
DTEND;TZID=America/Chicago:20251211T213000
DTSTAMP:20260424T121534
CREATED:20251121T203042Z
LAST-MODIFIED:20251121T203042Z
UID:10000049-1765481400-1765488600@populusdenver.com
SUMMARY:Colorado Avalanche vs. Florida Panthers
DESCRIPTION:
URL:https://populusdenver.com/event/colorado-avalanche-vs-florida-panthers/
LOCATION:Ball Arena\, 1000 Chopper Cir\, Denver\, CO\, 80204\, United States
ATTACH;FMTTYPE=image/jpeg:https://populusdenver.com/app/uploads/2025/11/Ball_Arena_exterior_2022.jpg
END:VEVENT
BEGIN:VEVENT
DTSTART;TZID=America/Chicago:20251211T180000
DTEND;TZID=America/Chicago:20251211T200000
DTSTAMP:20260424T121534
CREATED:20251208T230656Z
LAST-MODIFIED:20251208T230824Z
UID:10000063-1765476000-1765483200@populusdenver.com
SUMMARY:Seasonal Soundscapes ft. Enmanuel Alexander
DESCRIPTION:Enmanuel Alexander — Ambient acoustic and guitar-led winter selections. \nPopulus Denver will debut Seasonal Soundscapes\, a live music series that brings winter-inspired performances to the hotel lobby throughout December. The program highlights local Denver talent\, each artist offering their own interpretation of holiday classics\, seasonal favorites\, and midwinter moods. Pasque\, our ground floor restaurant\, will feature specialty food and beverage offerings during each performance to create a well-rounded experience for guests and patrons. \nFull schedule: \n\nTuesday\, December 9: Dzirae Gold — Jazzy piano interpretations of holiday standards and seasonal favorites\nWednesday\, December 10: Stoyer — Acoustic guitar renditions of holiday classics\nThursday\, December 11: Enmanuel Alexander — Ambient acoustic and guitar-led winter selections\nTuesday\, December 16: Max Moore — Instrumental winter solstice set with jazzy piano variations\nWednesday\, December 17: Alex Blocker — Violin-forward instrumental holiday arrangements with accompaniment\nThursday\, December 18: Wellington Bullings — Soulful\, jazz-leaning piano and seasonal classics\nMonday\, December 22: TBD\nTuesday\, December 23: TBD
URL:https://populusdenver.com/event/seasonal-soundscapes-ft-enmanuel-alexander/
ATTACH;FMTTYPE=image/webp:https://populusdenver.com/app/uploads/2025/12/Enmanuel-Alexander.webp
END:VEVENT
BEGIN:VEVENT
DTSTART;TZID=America/Chicago:20251210T180000
DTEND;TZID=America/Chicago:20251210T200000
DTSTAMP:20260424T121534
CREATED:20251208T225900Z
LAST-MODIFIED:20251208T231026Z
UID:10000062-1765389600-1765396800@populusdenver.com
SUMMARY:Seasonal Soundscapes ft. Stoyer
DESCRIPTION:Seasonal Soundscapes ft. Stoyer – Acoustic guitar renditions of holiday classics. \nPopulus Denver will debut Seasonal Soundscapes\, a live music series that brings winter-inspired performances to the hotel lobby throughout December. The program highlights local Denver talent\, each artist offering their own interpretation of holiday classics\, seasonal favorites\, and midwinter moods. Pasque\, our ground floor restaurant\, will feature specialty food and beverage offerings during each performance to create a well-rounded experience for guests and patrons. \nFull schedule: \n\nTuesday\, December 9: Dzirae Gold — Jazzy piano interpretations of holiday standards and seasonal favorites\nWednesday\, December 10: Stoyer — Acoustic guitar renditions of holiday classics\nThursday\, December 11: Enmanuel Alexander — Ambient acoustic and guitar-led winter selections\nTuesday\, December 16: Max Moore — Instrumental winter solstice set with jazzy piano variations\nWednesday\, December 17: Alex Blocker — Violin-forward instrumental holiday arrangements with accompaniment\nThursday\, December 18: Wellington Bullings — Soulful\, jazz-leaning piano and seasonal classics\nMonday\, December 22: TBD\nTuesday\, December 23: TBD
URL:https://populusdenver.com/event/seasonal-soundscapes-ft-stoyer/
ATTACH;FMTTYPE=image/jpeg:https://populusdenver.com/app/uploads/2025/12/Stoyer.jpg
END:VEVENT
BEGIN:VEVENT
DTSTART;TZID=America/Chicago:20251209T180000
DTEND;TZID=America/Chicago:20251209T200000
DTSTAMP:20260424T121534
CREATED:20251208T223447Z
LAST-MODIFIED:20251208T231322Z
UID:10000061-1765303200-1765310400@populusdenver.com
SUMMARY:Seasonal Soundscapes ft. Dzirae Gold
DESCRIPTION:Dzirae Gold — Jazzy piano interpretations of holiday standards and seasonal favorites. \nPopulus Denver will debut Seasonal Soundscapes\, a live music series that brings winter-inspired performances to the hotel lobby throughout December. The program highlights local Denver talent\, each artist offering their own interpretation of holiday classics\, seasonal favorites\, and midwinter moods. Pasque\, our ground floor restaurant\, will feature specialty food and beverage offerings during each performance to create a well-rounded experience for guests and patrons. \nFull schedule: \n\nTuesday\, December 9: Dzirae Gold — Jazzy piano interpretations of holiday standards and seasonal favorites\nWednesday\, December 10: Stoyer — Acoustic guitar renditions of holiday classics\nThursday\, December 11: Enmanuel Alexander — Ambient acoustic and guitar-led winter selections\nTuesday\, December 16: Max Moore — Instrumental winter solstice set with jazzy piano variations\nWednesday\, December 17: Alex Blocker — Violin-forward instrumental holiday arrangements with accompaniment\nThursday\, December 18: Wellington Bullings — Soulful\, jazz-leaning piano and seasonal classics\nMonday\, December 22: TBD\nTuesday\, December 23: TBD
URL:https://populusdenver.com/event/seasonal-soundscapes/
ATTACH;FMTTYPE=image/webp:https://populusdenver.com/app/uploads/2025/12/image1-scaled.webp
END:VEVENT
BEGIN:VEVENT
DTSTART;VALUE=DATE:20251206
DTEND;VALUE=DATE:20251208
DTSTAMP:20260424T121534
CREATED:20251121T202725Z
LAST-MODIFIED:20251121T202815Z
UID:10000048-1764979200-1765151999@populusdenver.com
SUMMARY:Disney on Ice presents Let's Dance!
DESCRIPTION:
URL:https://populusdenver.com/event/disney-on-ice-presents-lets-dance-2/
LOCATION:Ball Arena\, 1000 Chopper Cir\, Denver\, CO\, 80204\, United States
ATTACH;FMTTYPE=image/jpeg:https://populusdenver.com/app/uploads/2025/11/4682390569_706ae0f4a0_o.jpg
END:VEVENT
BEGIN:VEVENT
DTSTART;VALUE=DATE:20251206
DTEND;VALUE=DATE:20251207
DTSTAMP:20260424T121534
CREATED:20251121T172522Z
LAST-MODIFIED:20251121T172522Z
UID:10000039-1764979200-1765065599@populusdenver.com
SUMMARY:9News Parade of Lights
DESCRIPTION:The 9NEWS Parade of Lights\, proudly produced by the Downtown Denver Partnership\, will return on December 6\, 2025! This beloved holiday tradition will once again light up Downtown Denver with more than 40 dazzling floats\, giant balloons\, marching bands\, equestrian units\, cultural displays\, and special guest appearances from Major Waddles the penguin and Santa himself.
URL:https://populusdenver.com/event/9news-parade-of-lights/
ATTACH;FMTTYPE=image/jpeg:https://populusdenver.com/app/uploads/2025/11/Denver_Christmas.jpg
END:VEVENT
BEGIN:VEVENT
DTSTART;TZID=America/Chicago:20251205T190000
DTEND;TZID=America/Chicago:20251205T220000
DTSTAMP:20260424T121534
CREATED:20251121T202619Z
LAST-MODIFIED:20251121T202619Z
UID:10000047-1764961200-1764972000@populusdenver.com
SUMMARY:Disney on Ice presents Let's Dance!
DESCRIPTION:
URL:https://populusdenver.com/event/disney-on-ice-presents-lets-dance/
LOCATION:Ball Arena\, 1000 Chopper Cir\, Denver\, CO\, 80204\, United States
ATTACH;FMTTYPE=image/jpeg:https://populusdenver.com/app/uploads/2025/11/4682390569_706ae0f4a0_o.jpg
END:VEVENT
BEGIN:VEVENT
DTSTART;VALUE=DATE:20251203
DTEND;VALUE=DATE:20251208
DTSTAMP:20260424T121534
CREATED:20251121T174223Z
LAST-MODIFIED:20251121T174223Z
UID:10000042-1764720000-1765151999@populusdenver.com
SUMMARY:How The Grinch Stole Christmas
DESCRIPTION:THE GRINCH broke box office records for two consecutive years on Broadway during its holiday engagements at the St. James and Hilton theatres in New York. Since then\, more than 2.1 million theatre-goers across America have been delighted by this heart-warming holiday musical\, which The New York Times praised as “100 times better than any bedtime story” and the Gannett papers hailed as “A genius of a show! A total delight for both kids and adults. \nDr. Seuss’ How The Grinch Stole Christmas! The Musical features the hit songs “”You’re A Mean One Mr. Grinch”” and “”Welcome Christmas” (written by Albert Hague and Dr. Seuss) from the original animated series. Max the Dog narrates as the mean and scheming Grinch\, whose heart is “”two sizes too small\,”” decides to steal Christmas away from the Holiday loving Whos. Magnificent sets (John Lee Beatty) and costumes (Robert Morgan) inspired by Dr. Seuss’ original illustrations help transport audiences to the whimsical world of Whoville\, while the Music and Book of Mel Marvin and Timothy Mason breathe new life into this timeless story of the true meaning of Christmas. The 2024 production is directed by Matt August and choreographed by Bob Richard based on the original choreography by John DeLuca and originally created by 4-time Tony Award® winning director\, Jack O’Brien.
URL:https://populusdenver.com/event/how-the-grinch-stole-christmas/
LOCATION:Buell Theatre\, 1350 Curtis Street\, Denver\, CO\, 80202\, United States
ATTACH;FMTTYPE=image/jpeg:https://populusdenver.com/app/uploads/2025/11/5636021195_5ac8897d7d_o.jpg
END:VEVENT
BEGIN:VEVENT
DTSTART;TZID=America/Chicago:20251202T190000
DTEND;TZID=America/Chicago:20251202T220000
DTSTAMP:20260424T121534
CREATED:20251121T202243Z
LAST-MODIFIED:20251121T202243Z
UID:10000046-1764702000-1764712800@populusdenver.com
SUMMARY:Colorado Avalanche vs. Vancouver Canucks
DESCRIPTION:
URL:https://populusdenver.com/event/colorado-avalanche-vs-vancouver-canucks/
LOCATION:Ball Arena\, 1000 Chopper Cir\, Denver\, CO\, 80204\, United States
ATTACH;FMTTYPE=image/jpeg:https://populusdenver.com/app/uploads/2025/11/Ball_Arena_Avs.jpg
END:VEVENT
BEGIN:VEVENT
DTSTART;TZID=America/Chicago:20251201T190000
DTEND;TZID=America/Chicago:20251201T220000
DTSTAMP:20260424T121534
CREATED:20251121T201938Z
LAST-MODIFIED:20251121T204016Z
UID:10000045-1764615600-1764626400@populusdenver.com
SUMMARY:Denver Nuggets vs Dallas Mavericks
DESCRIPTION:
URL:https://populusdenver.com/event/denver-nuggets-vs-dallas-mavericks/
LOCATION:Ball Arena\, 1000 Chopper Cir\, Denver\, CO\, 80204\, United States
ATTACH;FMTTYPE=image/jpeg:https://populusdenver.com/app/uploads/2025/11/52552855752_40e169a198_o.jpg
END:VEVENT
BEGIN:VEVENT
DTSTART;TZID=America/Chicago:20251128T193000
DTEND;TZID=America/Chicago:20251128T213000
DTSTAMP:20260424T121534
CREATED:20251124T180137Z
LAST-MODIFIED:20251124T180137Z
UID:10000055-1764358200-1764365400@populusdenver.com
SUMMARY:NBA Cup Group Stage: Denver Nuggets vs. San Antonio Spurs
DESCRIPTION:
URL:https://populusdenver.com/event/nba-cup-group-stage-denver-nuggets-vs-san-antonio-spurs/
LOCATION:Ball Arena\, 1000 Chopper Cir\, Denver\, CO\, 80204\, United States
ATTACH;FMTTYPE=image/jpeg:https://populusdenver.com/app/uploads/2025/11/52553316591_bef18dfa19_o.jpg
END:VEVENT
BEGIN:VEVENT
DTSTART;TZID=America/Chicago:20251121T130000
DTEND;TZID=America/Chicago:20251223T210000
DTSTAMP:20260424T121534
CREATED:20251121T170103Z
LAST-MODIFIED:20251121T170103Z
UID:10000037-1763730000-1766523600@populusdenver.com
SUMMARY:Christkindlmarket Denver
DESCRIPTION:The Denver Christkindlmarket is an authentic\, German-style holiday market\, which is host to local and European craft and food vendors\, and tons of magical entertainment for everyone to enjoy. The Denver Christkindlmarket is a must-see (and must-taste!) holiday experience. \nFree and open to the public.
URL:https://populusdenver.com/event/christkindlmarket-denver/
LOCATION:Auraria Campus\, Tivoli Quad 1000 Larimer St\, Denver\, CO\, 80204\, United States
ATTACH;FMTTYPE=image/jpeg:https://populusdenver.com/app/uploads/2025/11/Denver_Christmas.jpg
END:VEVENT
END:VCALENDAR